BEGIN:VCALENDAR
VERSION:2.0
PRODID:-//CKDH - ECPv4.6.26//NONSGML v1.0//EN
CALSCALE:GREGORIAN
METHOD:PUBLISH
X-WR-CALNAME:CKDH
X-ORIGINAL-URL:https://ckdh.com
X-WR-CALDESC:Events for CKDH
BEGIN:VEVENT
DTSTART;VALUE=DATE:20190823
DTEND;VALUE=DATE:20190826
DTSTAMP:20260422T155921
CREATED:20190813T152404Z
LAST-MODIFIED:20190813T152533Z
UID:6501-1566518400-1566777599@ckdh.com
SUMMARY:Sackville Street Chalk Art Festival
DESCRIPTION:The Sackville Street Chalk Art Festival is Friday thru Sunday August 23-25\, on Bridge Street\, in the heart of downtown Sackville. Eleven artists from across the Maritimes and Ontario will be creating a magnificent chalk art installation directly on Bridge Street.  And there’s live musical entertainment throughout the festival with Cool Water\, headlining at 9:30 Friday night. Second Toe\, will be headlining at 4 on Saturday. For a full schedule of events\, visit www.sackville.com/sackvillechalk or search for the Sackville Street Chalk Art Festival on Facebook. \n  \n(In the event of rain\, all outdoor activities\, including the chalk art installations and live music\, will be relocated to the Tantramar Civic Center) \n
URL:https://ckdh.com/event/sackville-street-chalk-art-festival-2/
END:VEVENT
END:VCALENDAR