BEGIN:VCALENDAR
VERSION:2.0
PRODID:-//CKDH - ECPv4.6.26//NONSGML v1.0//EN
CALSCALE:GREGORIAN
METHOD:PUBLISH
X-WR-CALNAME:CKDH
X-ORIGINAL-URL:https://ckdh.com
X-WR-CALDESC:Events for CKDH
BEGIN:VEVENT
DTSTART;VALUE=DATE:20170825
DTEND;VALUE=DATE:20170827
DTSTAMP:20260423T164828
CREATED:20170619T175510Z
LAST-MODIFIED:20170619T175510Z
UID:1112-1503619200-1503791999@ckdh.com
SUMMARY:Sackville Street Chalk Art Festival
DESCRIPTION:The Sackville Street Chalk Art Festival\, celebrating Canada’s 150\, is Aug 25-26 directly on Bridge Street. Featured artists include traditional Madonnari artist Francois Pelletier and 3-D artist Chalkmaster Dave\, but there will be enough chalk for anyone who would like to participate in the Free-For-All area. There will also be children’s chalk activities\, art workshops and live music. For the complete schedule go to Sackville.com \n
URL:https://ckdh.com/event/sackville-street-chalk-art-festival/
END:VEVENT
END:VCALENDAR