BEGIN:VCALENDAR
VERSION:2.0
PRODID:-//CKDH - ECPv4.6.26//NONSGML v1.0//EN
CALSCALE:GREGORIAN
METHOD:PUBLISH
X-WR-CALNAME:CKDH
X-ORIGINAL-URL:https://ckdh.com
X-WR-CALDESC:Events for CKDH
BEGIN:VEVENT
DTSTART;TZID=UTC+0:20170502T140000
DTEND;TZID=UTC+0:20170502T190000
DTSTAMP:20260422T142700
CREATED:20170410T184236Z
LAST-MODIFIED:20170410T184236Z
UID:548-1493733600-1493751600@ckdh.com
SUMMARY:Sackville’s 2017 Residential Household Hazardous Waste And Computer Recycling Day
DESCRIPTION:Sackville’s 2017 Residential Household Hazardous Waste And Computer Recycling Day is Tuesday May 2. Drop your items off between 2 and 7 at Engineering and Public Works at 101 Cresent Street. For more information\, call 364-4960 \n  \nThe following items WILL BE accepted as E-Waste: \nComputer towers\, servers\, laptops\, monitors\, keyboards\, mouse\, scanners\, printers\, fax machines VCR’s\, DVD’s\, stereos\, calculators\, telephones\, pagers\, typewriters\, audio/video equipment and all computer cords. \nThe following WILL NOT be accepted as E-waste:  Televisions\, microwaves\, any type of appliance (toasters\, kettles\, grills\, fryers\, etc.).These items can be put out as part of this Spring clean-up. \n
URL:https://ckdh.com/event/sackvilles-2017-residential-household-hazardous-waste-and-computer-recycling-day/
END:VEVENT
END:VCALENDAR