BEGIN:VCALENDAR
VERSION:2.0
PRODID:-//CKDH - ECPv4.6.26//NONSGML v1.0//EN
CALSCALE:GREGORIAN
METHOD:PUBLISH
X-WR-CALNAME:CKDH
X-ORIGINAL-URL:https://ckdh.com
X-WR-CALDESC:Events for CKDH
BEGIN:VEVENT
DTSTART;TZID=America/Halifax:20190117T110000
DTEND;TZID=America/Halifax:20190117T130000
DTSTAMP:20260422T143444
CREATED:20190116T133742Z
LAST-MODIFIED:20190116T133742Z
UID:5478-1547722800-1547730000@ckdh.com
SUMMARY:Salvation Army Soup Kitchen
DESCRIPTION:The Salvation Army Soup Kitchen is on Thursday from 11-1\,with soup\, sandwich\, coffee and dessert. Lunch is free\, but donations are always welcome \n  \n
URL:https://ckdh.com/event/salvation-army-soup-kitchen/
END:VEVENT
END:VCALENDAR