BEGIN:VCALENDAR
VERSION:2.0
PRODID:-//CKDH - ECPv4.6.26//NONSGML v1.0//EN
CALSCALE:GREGORIAN
METHOD:PUBLISH
X-WR-CALNAME:CKDH
X-ORIGINAL-URL:https://ckdh.com
X-WR-CALDESC:Events for CKDH
BEGIN:VEVENT
DTSTART;TZID=America/Halifax:20180714T113000
DTEND;TZID=America/Halifax:20180714T170000
DTSTAMP:20260422T103309
CREATED:20180711T162824Z
LAST-MODIFIED:20180711T162824Z
UID:2242-1531567800-1531587600@ckdh.com
SUMMARY:Savour The Shore
DESCRIPTION:Savour The Shore\, a celebration of Nova Scotia’s North Shore\, is Saturday at Northumberland Links. The gates open at 11:30. There will be entertainment on the Tap-In Deck starting at noon with Chris Brown. At 1:30 three generations of the Murray family will perform. Free Fall will follow the Live Auction at 4. There will be a silent auction with more than 90 items\, with bidding starting at 11:30. A live auction starts at 2:30. The children’s putting contest starts at 1\, with a group picture of participants at 2:15 with Nathan MacKinnon and Karen Furneax. And there will be vendors serving a variety of the area’s finest food and beverages. For more information and to view auction items go to nothumberlandlinks.com/savourtheshore \n
URL:https://ckdh.com/event/savour-the-shore/
END:VEVENT
END:VCALENDAR