BEGIN:VCALENDAR
VERSION:2.0
PRODID:-//CKDH - ECPv4.6.26//NONSGML v1.0//EN
CALSCALE:GREGORIAN
METHOD:PUBLISH
X-WR-CALNAME:CKDH
X-ORIGINAL-URL:https://ckdh.com
X-WR-CALDESC:Events for CKDH
BEGIN:VEVENT
DTSTART;TZID=America/Halifax:20180607T190000
DTEND;TZID=America/Halifax:20180607T190000
DTSTAMP:20260421T153432
CREATED:20180529T141932Z
LAST-MODIFIED:20180529T141932Z
UID:2067-1528398000-1528398000@ckdh.com
SUMMARY:School Concerts
DESCRIPTION:The EB Chandler and ARHS Stage Bands will hold their concert at the Susan Taylor Theatre at ARHS on Thursday June 7 at 7:00 p.m. \nThe grades 7 and 8 Concert Bands and Choir will hold their concert at the EB Chandler gymnasium on Tuesday June 12 at 7:00 p.m. \nDonations at the door will gladly be accepted at all concerts. \n
URL:https://ckdh.com/event/school-concerts-2/
END:VEVENT
END:VCALENDAR