BEGIN:VCALENDAR
VERSION:2.0
PRODID:-//CKDH - ECPv4.6.26//NONSGML v1.0//EN
CALSCALE:GREGORIAN
METHOD:PUBLISH
X-WR-CALNAME:CKDH
X-ORIGINAL-URL:https://ckdh.com
X-WR-CALDESC:Events for CKDH
BEGIN:VEVENT
DTSTART;TZID=UTC+0:20170715T110000
DTEND;TZID=UTC+0:20170715T140000
DTSTAMP:20260421T113218
CREATED:20170626T182502Z
LAST-MODIFIED:20170626T182502Z
UID:1144-1500116400-1500127200@ckdh.com
SUMMARY:Seafood Chowder Fest
DESCRIPTION:The Annual Seafood Chowder Fest is Sat Jul 15 from 11-2 at the Wallace Community Center. It’s a complete meal for $15 for adults and $7.50 for children. Proceeds to the United Church. \n
URL:https://ckdh.com/event/seafood-chowder-fest/
END:VEVENT
END:VCALENDAR