BEGIN:VCALENDAR
VERSION:2.0
PRODID:-//CKDH - ECPv4.6.26//NONSGML v1.0//EN
CALSCALE:GREGORIAN
METHOD:PUBLISH
X-WR-CALNAME:CKDH
X-ORIGINAL-URL:https://ckdh.com
X-WR-CALDESC:Events for CKDH
BEGIN:VEVENT
DTSTART;TZID=UTC+0:20170609T203000
DTEND;TZID=UTC+0:20170609T203000
DTSTAMP:20260420T212013
CREATED:20170606T185751Z
LAST-MODIFIED:20170606T185751Z
UID:1007-1497040200-1497040200@ckdh.com
SUMMARY:Seniors Dance
DESCRIPTION:The last dance this spring at the Springhill Seniors Club\, is Friday night at 8:30. Music will be by Gerald MacKenzie and his band. The cost is $6 per person. There will be a lunch at intermission. \n
URL:https://ckdh.com/event/seniors-dance/
END:VEVENT
END:VCALENDAR