BEGIN:VCALENDAR
VERSION:2.0
PRODID:-//CKDH - ECPv4.6.26//NONSGML v1.0//EN
CALSCALE:GREGORIAN
METHOD:PUBLISH
X-WR-CALNAME:CKDH
X-ORIGINAL-URL:https://ckdh.com
X-WR-CALDESC:Events for CKDH
BEGIN:VEVENT
DTSTART;TZID=UTC+0:20170322T120000
DTEND;TZID=UTC+0:20170322T120000
DTSTAMP:20260420T030959
CREATED:20170315T153937Z
LAST-MODIFIED:20170315T153937Z
UID:376-1490184000-1490184000@ckdh.com
SUMMARY:Seniors Luncheon
DESCRIPTION:There’s a Senior’s Luncheon\, Wed Mar 22 at noon at the Amherst Wesleyan Church. They will be serving meatloaf. The cost is $9. James Bell will be the musical guest. You have to make a reservation by Monday by calling 902-660-2871. \n
URL:https://ckdh.com/event/seniors-luncheon-2/
END:VEVENT
END:VCALENDAR