BEGIN:VCALENDAR
VERSION:2.0
PRODID:-//CKDH - ECPv4.6.26//NONSGML v1.0//EN
CALSCALE:GREGORIAN
METHOD:PUBLISH
X-WR-CALNAME:CKDH
X-ORIGINAL-URL:https://ckdh.com
X-WR-CALDESC:Events for CKDH
BEGIN:VEVENT
DTSTART;TZID=America/Halifax:20180618T180000
DTEND;TZID=America/Halifax:20180618T180000
DTSTAMP:20260421T151601
CREATED:20180608T122054Z
LAST-MODIFIED:20180608T122054Z
UID:2124-1529344800-1529344800@ckdh.com
SUMMARY:Sexual Health Center AGM
DESCRIPTION:The Sexual Health Center for Cumberland County will hold their Annual General Meeting Monday\, June 18 at 6\, in the parish Hall multipurpose room. \n
URL:https://ckdh.com/event/sexual-health-center-agm-2/
END:VEVENT
END:VCALENDAR