BEGIN:VCALENDAR
VERSION:2.0
PRODID:-//CKDH - ECPv4.6.26//NONSGML v1.0//EN
CALSCALE:GREGORIAN
METHOD:PUBLISH
X-WR-CALNAME:CKDH
X-ORIGINAL-URL:https://ckdh.com
X-WR-CALDESC:Events for CKDH
BEGIN:VEVENT
DTSTART;TZID=UTC+0:20170523T183000
DTEND;TZID=UTC+0:20170523T203000
DTSTAMP:20260424T151525
CREATED:20170515T174242Z
LAST-MODIFIED:20170515T174242Z
UID:871-1495564200-1495571400@ckdh.com
SUMMARY:Sexual Violence-The Bystander Effect Intervention Question and Answer Event
DESCRIPTION:Autumn House and the Sexual Violence Outreach Program a hosting a Sexual Violence-The Bystander Effect Intervention Question and Answer Event\, Tue May 23 from 6:30-8:30\, at the Community Credit Union Business Center. Bringing in the Bystander states that everyone in the community has a role to play in ending sexual violence. Heather Blackburn\, who is a trained facilitator in the Bringing in the Bystander Program\, will be the guest speaker. \n
URL:https://ckdh.com/event/sexual-violence-the-bystander-effect-intervention-question-and-answer-event/
END:VEVENT
END:VCALENDAR