BEGIN:VCALENDAR
VERSION:2.0
PRODID:-//CKDH - ECPv4.6.26//NONSGML v1.0//EN
CALSCALE:GREGORIAN
METHOD:PUBLISH
X-WR-CALNAME:CKDH
X-ORIGINAL-URL:https://ckdh.com
X-WR-CALDESC:Events for CKDH
BEGIN:VEVENT
DTSTART;TZID=America/Halifax:20190720T090000
DTEND;TZID=America/Halifax:20190720T090000
DTSTAMP:20260421T171435
CREATED:20190711T154256Z
LAST-MODIFIED:20190711T154256Z
UID:6337-1563613200-1563613200@ckdh.com
SUMMARY:Shelter Yard Sale/Open House
DESCRIPTION:The LA Animal Shelter will be have a Yard Sale and Open House on Saturday July 20. Yard sale at 9:00\, open house at 11:00. BBQ sponsored by the Community Credit Union and balloon creations by Kalei’s Balloon Creations. All proceeds for the Shelter. \n
URL:https://ckdh.com/event/shelter-yard-sale-open-house/
END:VEVENT
END:VCALENDAR