BEGIN:VCALENDAR
VERSION:2.0
PRODID:-//CKDH - ECPv4.6.26//NONSGML v1.0//EN
CALSCALE:GREGORIAN
METHOD:PUBLISH
X-WR-CALNAME:CKDH
X-ORIGINAL-URL:https://ckdh.com
X-WR-CALDESC:Events for CKDH
BEGIN:VEVENT
DTSTART;TZID=America/Halifax:20190929T130000
DTEND;TZID=America/Halifax:20190929T160000
DTSTAMP:20260422T232342
CREATED:20190912T154428Z
LAST-MODIFIED:20190912T154428Z
UID:6639-1569762000-1569772800@ckdh.com
SUMMARY:Shinerama Bottle Drive
DESCRIPTION:Sunday Sept 29\, it’s the Mount A Shinerama Bottle Drive. They will be collecting from 1-4. Post on the MTA Shinerama Bottle Drive 2019 facebook page to let them know you want to donate or leave your refundables at the end of your driveway \n
URL:https://ckdh.com/event/shinerama-bottle-drive/
END:VEVENT
END:VCALENDAR