BEGIN:VCALENDAR
VERSION:2.0
PRODID:-//CKDH - ECPv4.6.26//NONSGML v1.0//EN
CALSCALE:GREGORIAN
METHOD:PUBLISH
X-WR-CALNAME:CKDH
X-ORIGINAL-URL:https://ckdh.com
X-WR-CALDESC:Events for CKDH
BEGIN:VEVENT
DTSTART;VALUE=DATE:20180711
DTEND;VALUE=DATE:20180712
DTSTAMP:20260422T192908
CREATED:20180530T141600Z
LAST-MODIFIED:20180530T141600Z
UID:2085-1531267200-1531353599@ckdh.com
SUMMARY:Showcase Summer Theatre Programs
DESCRIPTION:Showcase Productions Society will be offering Summer Theatre Programs for students in Amherst and Area at Christ Church Parish Hall. Camp 1 is Jul 16-27 and is for ages 7-9. Camp 2 is Aug 6-17 for 10-12 year olds. The 2 week camps cost $125. Sponsorships are available. For more information\, call 902-667-1900\, email showcasep@eastlink\,ca or go to showcasrproductions.ca \n
URL:https://ckdh.com/event/showcase-summer-theatre-programs-2/
END:VEVENT
END:VCALENDAR