BEGIN:VCALENDAR
VERSION:2.0
PRODID:-//CKDH - ECPv4.6.26//NONSGML v1.0//EN
CALSCALE:GREGORIAN
METHOD:PUBLISH
X-WR-CALNAME:CKDH
X-ORIGINAL-URL:https://ckdh.com
X-WR-CALDESC:Events for CKDH
BEGIN:VEVENT
DTSTART;TZID=UTC+0:20170527T170000
DTEND;TZID=UTC+0:20170527T170000
DTSTAMP:20260421T121642
CREATED:20170511T163541Z
LAST-MODIFIED:20170511T163541Z
UID:851-1495904400-1495904400@ckdh.com
SUMMARY:Shriners Annual Lobster Supper
DESCRIPTION:The Shriners Annual Lobster Supper is Sat May 27 at the Dr. Carson and Marion Murray Community Center. Social hour is at 5\, with dinner served at 7. You have a choice of 4 lobsters or BBQ chicken\, with strawberry shortcake for dessert. You can it in or take it out. Tickets are $50 each. There will also be a live and silent auction and a 50/50.  Call Bruce at 902-664-1508\, Gary at 902-667-9459 or Drew at 902-597-2042. \n
URL:https://ckdh.com/event/shriners-annual-lobster-supper/
END:VEVENT
END:VCALENDAR