BEGIN:VCALENDAR
VERSION:2.0
PRODID:-//CKDH - ECPv4.6.26//NONSGML v1.0//EN
CALSCALE:GREGORIAN
METHOD:PUBLISH
X-WR-CALNAME:CKDH
X-ORIGINAL-URL:https://ckdh.com
X-WR-CALDESC:Events for CKDH
BEGIN:VEVENT
DTSTART;TZID=UTC+0:20170611T140000
DTEND;TZID=UTC+0:20170611T140000
DTSTAMP:20260420T171852
CREATED:20170529T182008Z
LAST-MODIFIED:20170529T182008Z
UID:963-1497189600-1497189600@ckdh.com
SUMMARY:Small Town Economic Development Session
DESCRIPTION:The Town of Sackville is teaming up with McIsaac Darragh Chartered Professional Accountant’s Louse MacKinnon\,  Mount Allison University’s Geography and Environment Department\, and the Centre for Local Prosperity\, to present an afternoon session on Small Town Economic Development\, increasing self-sufficiency\, and harnessing the potential of a semi-rural community such as Sackville. The event is Sunday\, June 11 at 2 pm at the Vogue Cinema\, there is no admission charge and everyone is invited to attend. \n
URL:https://ckdh.com/event/small-town-economic-development-session/
END:VEVENT
END:VCALENDAR