BEGIN:VCALENDAR
VERSION:2.0
PRODID:-//CKDH - ECPv4.6.26//NONSGML v1.0//EN
CALSCALE:GREGORIAN
METHOD:PUBLISH
X-WR-CALNAME:CKDH
X-ORIGINAL-URL:https://ckdh.com
X-WR-CALDESC:Events for CKDH
BEGIN:VEVENT
DTSTART;TZID=UTC+0:20171125T160000
DTEND;TZID=UTC+0:20171125T183000
DTSTAMP:20260420T054316
CREATED:20171031T155422Z
LAST-MODIFIED:20171031T155422Z
UID:1706-1511625600-1511634600@ckdh.com
SUMMARY:Spaghetti Dinner
DESCRIPTION:The 681 Tantramar Air Cadets Squadron will be hosting a Spaghetti Dinner at the Royal Canadian Legion (15 Lorne Street) on November 25th from 4-6:30. Tickets can be purchased in advance for $8.00 and for $10.00 at the door. To purchase tickets in advance contact 681air@cadets.gc.ca or visit the Sackville Legion. \n
URL:https://ckdh.com/event/spaghetti-dinner/
END:VEVENT
END:VCALENDAR