BEGIN:VCALENDAR
VERSION:2.0
PRODID:-//CKDH - ECPv4.6.26//NONSGML v1.0//EN
CALSCALE:GREGORIAN
METHOD:PUBLISH
X-WR-CALNAME:CKDH
X-ORIGINAL-URL:https://ckdh.com
X-WR-CALDESC:Events for CKDH
BEGIN:VEVENT
DTSTART;TZID=America/Halifax:20191024T160000
DTEND;TZID=America/Halifax:20191024T200000
DTSTAMP:20260424T113037
CREATED:20191015T160548Z
LAST-MODIFIED:20191015T160548Z
UID:6836-1571932800-1571947200@ckdh.com
SUMMARY:Spirits Walk in Downtown Amherst
DESCRIPTION:Spirits Walk in Downtown Amherst\, Thursday Oct 24 from 4-8. It’s Trick or Treating for adults. Visit participating stores throughout downtown Amherst\, to sample Witches Brew from craft breweries and distilleries\, enjoy tasty treats and magical tricks. \n  \n
URL:https://ckdh.com/event/spirits-walk-in-downtown-amherst-2/
END:VEVENT
END:VCALENDAR