BEGIN:VCALENDAR
VERSION:2.0
PRODID:-//CKDH - ECPv4.6.26//NONSGML v1.0//EN
CALSCALE:GREGORIAN
METHOD:PUBLISH
X-WR-CALNAME:CKDH
X-ORIGINAL-URL:https://ckdh.com
X-WR-CALDESC:Events for CKDH
BEGIN:VEVENT
DTSTART;TZID=America/Halifax:20181026T160000
DTEND;TZID=America/Halifax:20181026T200000
DTSTAMP:20260422T125307
CREATED:20181011T160359Z
LAST-MODIFIED:20181011T160359Z
UID:5035-1540569600-1540584000@ckdh.com
SUMMARY:Spirits Walk in Downtown Amherst
DESCRIPTION:It’s trick-or-treating… just for adults. Spirits Walk in Downtown Amherst is Fri Oct 26 from 4-8. Visit participating shops throughout downtown Amherst to sample “witches’ brews” from craft breweries and distilleries\, tasty treats\, and magical tricks. For participating locations\, go to Amherst.ca/shopping.html \n
URL:https://ckdh.com/event/spirits-walk-in-downtown-amherst/
END:VEVENT
END:VCALENDAR