BEGIN:VCALENDAR
VERSION:2.0
PRODID:-//CKDH - ECPv4.6.26//NONSGML v1.0//EN
CALSCALE:GREGORIAN
METHOD:PUBLISH
X-WR-CALNAME:CKDH
X-ORIGINAL-URL:https://ckdh.com
X-WR-CALDESC:Events for CKDH
BEGIN:VEVENT
DTSTART;TZID=America/Halifax:20191020T160000
DTEND;TZID=America/Halifax:20191020T180000
DTSTAMP:20260422T103406
CREATED:20191017T154332Z
LAST-MODIFIED:20191017T154332Z
UID:6852-1571587200-1571594400@ckdh.com
SUMMARY:Spooktacular Supper
DESCRIPTION:The River Phillip Community Hall is hosting a Spooktacular Supper Sunday from 4-6. They will be serving chili or lasagna\, with apple crisp and ice cream for dessert. They will also have a costume and a carved pumpkin contest. The cost is $12\, $6 for children and free for preschoolers. \n
URL:https://ckdh.com/event/spooktacular-supper/
END:VEVENT
END:VCALENDAR