BEGIN:VCALENDAR
VERSION:2.0
PRODID:-//CKDH - ECPv4.6.26//NONSGML v1.0//EN
CALSCALE:GREGORIAN
METHOD:PUBLISH
X-WR-CALNAME:CKDH
X-ORIGINAL-URL:https://ckdh.com
X-WR-CALDESC:Events for CKDH
BEGIN:VEVENT
DTSTART;TZID=UTC+0:20170422T100000
DTEND;TZID=UTC+0:20170422T100000
DTSTAMP:20260421T073323
CREATED:20170410T185033Z
LAST-MODIFIED:20170410T185033Z
UID:556-1492855200-1492855200@ckdh.com
SUMMARY:Springhill Community Gardens Open House
DESCRIPTION:The Springhill Community Gardens Open House is Sat Apr 22 from 10-2. Reserve your free garden plot. There will be a bird feeder workshop\, face painting\, chilli and more.  \n  \n
URL:https://ckdh.com/event/springhill-community-gardens-open-house/
END:VEVENT
END:VCALENDAR