BEGIN:VCALENDAR
VERSION:2.0
PRODID:-//CKDH - ECPv4.6.26//NONSGML v1.0//EN
CALSCALE:GREGORIAN
METHOD:PUBLISH
X-WR-CALNAME:CKDH
X-ORIGINAL-URL:https://ckdh.com
X-WR-CALDESC:Events for CKDH
BEGIN:VEVENT
DTSTART;VALUE=DATE:20201124
DTEND;VALUE=DATE:20201125
DTSTAMP:20260422T110158
CREATED:20201124T153707Z
LAST-MODIFIED:20201124T153707Z
UID:8196-1606176000-1606262399@ckdh.com
SUMMARY:Springhill Lions - Lottery Wreath Fundraiser
DESCRIPTION:The Springhill Lions Club is holding a Lottery Wreath Fundraiser. Tickets are $2 or 3 for $5. The wreath contains a $50 prize and $50 worth of scratch tickets. The draw is Monday Dec 14. Get your tickets from any Lion or message them on their facebook page. Proceeds help the Lions provide their Christmas services and programs. \n
URL:https://ckdh.com/event/springhill-lions-lottery-wreath-fundraiser/
END:VEVENT
END:VCALENDAR