BEGIN:VCALENDAR
VERSION:2.0
PRODID:-//CKDH - ECPv4.6.26//NONSGML v1.0//EN
CALSCALE:GREGORIAN
METHOD:PUBLISH
X-WR-CALNAME:CKDH
X-ORIGINAL-URL:https://ckdh.com
X-WR-CALDESC:Events for CKDH
BEGIN:VEVENT
DTSTART;TZID=UTC+0:20170519T063000
DTEND;TZID=UTC+0:20170519T063000
DTSTAMP:20260425T105501
CREATED:20170516T183106Z
LAST-MODIFIED:20170516T183106Z
UID:893-1495175400-1495175400@ckdh.com
SUMMARY:Springhill’s Yard Waste Collection
DESCRIPTION:Springhill’s Yard Waste Collection is Friday. Your materials have to at curbside by 6:30. Yard and leaf waste in plastic bags will not be accepted. It has to be in a compostable or paper bag. For more information call 902-667-5141. \n
URL:https://ckdh.com/event/springhills-yard-waste-collection/
END:VEVENT
END:VCALENDAR