BEGIN:VCALENDAR
VERSION:2.0
PRODID:-//CKDH - ECPv4.6.26//NONSGML v1.0//EN
CALSCALE:GREGORIAN
METHOD:PUBLISH
X-WR-CALNAME:CKDH
X-ORIGINAL-URL:https://ckdh.com
X-WR-CALDESC:Events for CKDH
BEGIN:VEVENT
DTSTART;TZID=America/Halifax:20190719T090000
DTEND;TZID=America/Halifax:20190719T110000
DTSTAMP:20260421T185656
CREATED:20190711T154534Z
LAST-MODIFIED:20190711T154534Z
UID:6344-1563526800-1563534000@ckdh.com
SUMMARY:Summer Basketball Camp
DESCRIPTION:The Amherst Recreation Department is offering a Summer Basketball Camp\, for ages 7-12. It’s Friday’s starting July 19 until August 23 from 9-11. Sign up at familyfirst@amherst.ca   Call 902-664-7331 for more information. \n
URL:https://ckdh.com/event/summer-basketball-camp/
END:VEVENT
END:VCALENDAR