BEGIN:VCALENDAR
VERSION:2.0
PRODID:-//CKDH - ECPv4.6.26//NONSGML v1.0//EN
CALSCALE:GREGORIAN
METHOD:PUBLISH
X-WR-CALNAME:CKDH
X-ORIGINAL-URL:https://ckdh.com
X-WR-CALDESC:Events for CKDH
BEGIN:VEVENT
DTSTART;TZID=UTC+0:20170824T110000
DTEND;TZID=UTC+0:20170824T120000
DTSTAMP:20260423T204808
CREATED:20170801T154145Z
LAST-MODIFIED:20170801T154145Z
UID:1322-1503572400-1503576000@ckdh.com
SUMMARY:Summer Reading Club Wrap Up Party
DESCRIPTION:The Summer Reading Club Wrap Up Party is Thursday Aug 24 from 11-12 at the Springhill Library. Celebrate the end of the Summer Reading Club by travelling back to 1867. Play Victorian games\, make butter\, and more. Children under 9 have to accompanied by an adult. Call 902-597-2211 for more information. \n
URL:https://ckdh.com/event/summer-reading-club-wrap-up-party/
END:VEVENT
END:VCALENDAR