BEGIN:VCALENDAR
VERSION:2.0
PRODID:-//CKDH - ECPv4.6.26//NONSGML v1.0//EN
CALSCALE:GREGORIAN
METHOD:PUBLISH
X-WR-CALNAME:CKDH
X-ORIGINAL-URL:https://ckdh.com
X-WR-CALDESC:Events for CKDH
BEGIN:VEVENT
DTSTART;TZID=America/Halifax:20190707T183000
DTEND;TZID=America/Halifax:20190707T183000
DTSTAMP:20260425T025148
CREATED:20190705T081743Z
LAST-MODIFIED:20190705T081743Z
UID:6292-1562524200-1562524200@ckdh.com
SUMMARY:Sunday Evening of Music
DESCRIPTION:There’s a Sunday Evening of Music at the Brookdale United Church this Sunday at 6:30. This week music will be by Bill Drysdale and Linda Allen Moore. Admission is by donation\, and light refreshments will be available. \n  \n
URL:https://ckdh.com/event/sunday-evening-of-music/
END:VEVENT
END:VCALENDAR