BEGIN:VCALENDAR
VERSION:2.0
PRODID:-//CKDH - ECPv4.6.26//NONSGML v1.0//EN
CALSCALE:GREGORIAN
METHOD:PUBLISH
X-WR-CALNAME:CKDH
X-ORIGINAL-URL:https://ckdh.com
X-WR-CALDESC:Events for CKDH
BEGIN:VEVENT
DTSTART;TZID=America/Halifax:20190811T183000
DTEND;TZID=America/Halifax:20190811T183000
DTSTAMP:20260422T122214
CREATED:20190723T153940Z
LAST-MODIFIED:20190723T153940Z
UID:6393-1565548200-1565548200@ckdh.com
SUMMARY:Sunday Evenings of Music
DESCRIPTION:There are Sunday Evenings of Music at the Brookdale United Church. Sunday August 11\, at 6:30\, Lawry and Mary MacLeod are the musical guests. Admission is by donation\, and there will be light refreshments afterward. \n
URL:https://ckdh.com/event/sunday-evenings-of-music/
END:VEVENT
END:VCALENDAR