BEGIN:VCALENDAR
VERSION:2.0
PRODID:-//CKDH - ECPv4.6.26//NONSGML v1.0//EN
CALSCALE:GREGORIAN
METHOD:PUBLISH
X-WR-CALNAME:CKDH
X-ORIGINAL-URL:https://ckdh.com
X-WR-CALDESC:Events for CKDH
BEGIN:VEVENT
DTSTART;TZID=UTC+0:20170920T130000
DTEND;TZID=UTC+0:20170920T143000
DTSTAMP:20260423T130030
CREATED:20170801T153535Z
LAST-MODIFIED:20170801T153535Z
UID:1316-1505912400-1505917800@ckdh.com
SUMMARY:Sutherland Steam Mill Museum - DIY PVC Bow and Arrows workshop
DESCRIPTION:The Sutherland Steam Mill Museum in Denmark is holding a DIY PVC Bow and Arrows workshop\, Sun Aug 20 from 1:30-2:30. The cost is $10 per child\, with room for 10. Children aged 5 and 6 will need an older helper. For more information\, or to register call 902-657-3365. \n
URL:https://ckdh.com/event/sutherland-steam-mill-museum-diy-pvc-bow-and-arrows-workshop/
END:VEVENT
END:VCALENDAR