BEGIN:VCALENDAR
VERSION:2.0
PRODID:-//CKDH - ECPv4.6.26//NONSGML v1.0//EN
CALSCALE:GREGORIAN
METHOD:PUBLISH
X-WR-CALNAME:CKDH
X-ORIGINAL-URL:https://ckdh.com
X-WR-CALDESC:Events for CKDH
BEGIN:VEVENT
DTSTART;VALUE=DATE:20190518
DTEND;VALUE=DATE:20190520
DTSTAMP:20260422T191832
CREATED:20190514T081305Z
LAST-MODIFIED:20190514T081305Z
UID:6041-1558137600-1558310399@ckdh.com
SUMMARY:Tantramar Kennel Club’s Annual Dog Show
DESCRIPTION:The Tantramar Kennel Club’s Annual Dog Show is Saturday and Sunday at the Dr. Carson and Marion Murray Community Center. Judging begins both days at 8. Admission is $2 per day with children admitted free. \n  \n
URL:https://ckdh.com/event/tantramar-kennel-clubs-annual-dog-show/
END:VEVENT
END:VCALENDAR