BEGIN:VCALENDAR
VERSION:2.0
PRODID:-//CKDH - ECPv4.6.26//NONSGML v1.0//EN
CALSCALE:GREGORIAN
METHOD:PUBLISH
X-WR-CALNAME:CKDH
X-ORIGINAL-URL:https://ckdh.com
X-WR-CALDESC:Events for CKDH
BEGIN:VEVENT
DTSTART;TZID=America/Halifax:20180917T140000
DTEND;TZID=America/Halifax:20180917T160000
DTSTAMP:20260422T200338
CREATED:20180912T112221Z
LAST-MODIFIED:20180912T112221Z
UID:4926-1537192800-1537200000@ckdh.com
SUMMARY:Taoist Tai Chi  Open Houses
DESCRIPTION:Taoist Tai Chi branch has 2 open houses at Christ Church Parish Hall\, Monday from 2-4 and Wed Sept 19 from 7-9\, Call 902-667-9193 for more information. \n
URL:https://ckdh.com/event/taoist-tai-chi-open-houses-2/
END:VEVENT
END:VCALENDAR