BEGIN:VCALENDAR
VERSION:2.0
PRODID:-//CKDH - ECPv4.6.26//NONSGML v1.0//EN
CALSCALE:GREGORIAN
METHOD:PUBLISH
X-WR-CALNAME:CKDH
X-ORIGINAL-URL:https://ckdh.com
X-WR-CALDESC:Events for CKDH
BEGIN:VEVENT
DTSTART;TZID=America/Halifax:20180915T100000
DTEND;TZID=America/Halifax:20180915T120000
DTSTAMP:20260422T213120
CREATED:20180912T112033Z
LAST-MODIFIED:20180912T112033Z
UID:4924-1537005600-1537012800@ckdh.com
SUMMARY:Taoist Tai Chi  Open Houses
DESCRIPTION:Our local Taoist Tai Chi branch has 3 upcoming Open Houses. This Saturday from 10-noon they will be at the Tidnish Community Center. There are two open houses at Christ Church Parish Hall\, Monday from 2-4 and Wed Sept 19 from 7-9\, Call 902-667-9193 for more information. \n
URL:https://ckdh.com/event/taoist-tai-chi-open-houses/
END:VEVENT
END:VCALENDAR