BEGIN:VCALENDAR
VERSION:2.0
PRODID:-//CKDH - ECPv4.6.26//NONSGML v1.0//EN
CALSCALE:GREGORIAN
METHOD:PUBLISH
X-WR-CALNAME:CKDH
X-ORIGINAL-URL:https://ckdh.com
X-WR-CALDESC:Events for CKDH
BEGIN:VEVENT
DTSTART;TZID=UTC+0:20171119T130000
DTEND;TZID=UTC+0:20171119T150000
DTSTAMP:20260423T164328
CREATED:20171114T191723Z
LAST-MODIFIED:20171114T191723Z
UID:1783-1511096400-1511103600@ckdh.com
SUMMARY:Tea\, Craft and Bake Sale
DESCRIPTION:There’s a Tea\, Craft and Bake Sale Sunday from 1-3 at the Air Force Association. Tables are $5 by calling 902-667-7076 or 902-667-9262. \n
URL:https://ckdh.com/event/tea-craft-and-bake-sale/
END:VEVENT
END:VCALENDAR