BEGIN:VCALENDAR
VERSION:2.0
PRODID:-//CKDH - ECPv4.6.26//NONSGML v1.0//EN
CALSCALE:GREGORIAN
METHOD:PUBLISH
X-WR-CALNAME:CKDH
X-ORIGINAL-URL:https://ckdh.com
X-WR-CALDESC:Events for CKDH
BEGIN:VEVENT
DTSTART;VALUE=DATE:20170415
DTEND;VALUE=DATE:20170416
DTSTAMP:20260423T225440
CREATED:20170330T222848Z
LAST-MODIFIED:20170330T222848Z
UID:490-1492214400-1492300799@ckdh.com
SUMMARY:Teazer's Easter Jam
DESCRIPTION:Teazer’s Easter Jam in support of Maggie’s Place – A Resource Centre for Families on Saturday\, April 15th from 6 pm to closing – 50/50 – Silent Auction – Featuring many local talents \n
URL:https://ckdh.com/event/teazers-easter-jam/
END:VEVENT
END:VCALENDAR