BEGIN:VCALENDAR
VERSION:2.0
PRODID:-//CKDH - ECPv4.6.26//NONSGML v1.0//EN
CALSCALE:GREGORIAN
METHOD:PUBLISH
X-WR-CALNAME:CKDH
X-ORIGINAL-URL:https://ckdh.com
X-WR-CALDESC:Events for CKDH
BEGIN:VEVENT
DTSTART;TZID=America/Halifax:20190521T170000
DTEND;TZID=America/Halifax:20190521T190000
DTSTAMP:20260423T145923
CREATED:20190430T152452Z
LAST-MODIFIED:20190430T152452Z
UID:5984-1558458000-1558465200@ckdh.com
SUMMARY:Tech Petting Zoo
DESCRIPTION:Cumberland Public Libraries is holding a Tech Petting Zoo for adults\, Tuesday May 21. Drop by and see the latest toys and gadgets between 5 and 7. \n
URL:https://ckdh.com/event/tech-petting-zoo/
END:VEVENT
END:VCALENDAR