BEGIN:VCALENDAR
VERSION:2.0
PRODID:-//CKDH - ECPv4.6.26//NONSGML v1.0//EN
CALSCALE:GREGORIAN
METHOD:PUBLISH
X-WR-CALNAME:CKDH
X-ORIGINAL-URL:https://ckdh.com
X-WR-CALDESC:Events for CKDH
BEGIN:VEVENT
DTSTART;TZID=America/Halifax:20190321T140000
DTEND;TZID=America/Halifax:20190321T160000
DTSTAMP:20260421T115038
CREATED:20190226T134051Z
LAST-MODIFIED:20190226T134051Z
UID:5623-1553176800-1553184000@ckdh.com
SUMMARY:Tech Touch Tank
DESCRIPTION:The Springhill Library hosting Tech Touch Tank\, Thursday March 21 from 2-4. Drop in to use the library’s Cubelets\, ozobots and other fun technology. It’s for grades P-6. Children under 9 must be accompanied by an adult. For more information\, call 902-597-2211. \n  \n
URL:https://ckdh.com/event/tech-touch-tank/
END:VEVENT
END:VCALENDAR