BEGIN:VCALENDAR
VERSION:2.0
PRODID:-//CKDH - ECPv4.6.26//NONSGML v1.0//EN
CALSCALE:GREGORIAN
METHOD:PUBLISH
X-WR-CALNAME:CKDH
X-ORIGINAL-URL:https://ckdh.com
X-WR-CALDESC:Events for CKDH
BEGIN:VEVENT
DTSTART;TZID=America/Halifax:20200110T180000
DTEND;TZID=America/Halifax:20200110T180000
DTSTAMP:20260422T111451
CREATED:20200107T083855Z
LAST-MODIFIED:20200107T083855Z
UID:7304-1578679200-1578679200@ckdh.com
SUMMARY:Teen Movie
DESCRIPTION:The Springhill Library is showing the teen movie Mia and the White Lion\, Friday at 6. The movie is for grades 6-12. Bring a friend and a snack. \n
URL:https://ckdh.com/event/teen-movie/
END:VEVENT
END:VCALENDAR