BEGIN:VCALENDAR
VERSION:2.0
PRODID:-//CKDH - ECPv4.6.26//NONSGML v1.0//EN
CALSCALE:GREGORIAN
METHOD:PUBLISH
X-WR-CALNAME:CKDH
X-ORIGINAL-URL:https://ckdh.com
X-WR-CALDESC:Events for CKDH
BEGIN:VEVENT
DTSTART;TZID=America/Halifax:20190915T100000
DTEND;TZID=America/Halifax:20190915T100000
DTSTAMP:20260421T201436
CREATED:20190828T075904Z
LAST-MODIFIED:20190828T075904Z
UID:6542-1568541600-1568541600@ckdh.com
SUMMARY:Terry Fox Run - Amherst
DESCRIPTION:Amherst’s Terry Fox Run is Sunday Sept 15 at Dickey Park. 5 and 10k options are available. You can walk\, run or bike\, and you can use the trails at Dickey park or the route through town\, Registration is at 9\, with the run at 10. The Terry Fox Run is pet friendly. \n  \n
URL:https://ckdh.com/event/terry-fox-run-amherst/
END:VEVENT
END:VCALENDAR