BEGIN:VCALENDAR
VERSION:2.0
PRODID:-//CKDH - ECPv4.6.26//NONSGML v1.0//EN
CALSCALE:GREGORIAN
METHOD:PUBLISH
X-WR-CALNAME:CKDH
X-ORIGINAL-URL:https://ckdh.com
X-WR-CALDESC:Events for CKDH
BEGIN:VEVENT
DTSTART;TZID=UTC+0:20170917T090000
DTEND;TZID=UTC+0:20170917T090000
DTSTAMP:20260421T153107
CREATED:20170822T171509Z
LAST-MODIFIED:20170822T171509Z
UID:1377-1505638800-1505638800@ckdh.com
SUMMARY:Terry Fox Run
DESCRIPTION:The 2017 Terry Fox Run is Sunday September 17. This year both the 5K Grandmothers and Family Walk and the 10k will start at the same time. The run will be at Dickey Park again this year. Registration is at 9am and the run will start at 10:00 am. You will have the option of using the walking track to complete the run or the route through town. For more information\, call Monique at 902-699-9052 \n
URL:https://ckdh.com/event/terry-fox-run/
END:VEVENT
END:VCALENDAR