BEGIN:VCALENDAR
VERSION:2.0
PRODID:-//CKDH - ECPv4.6.26//NONSGML v1.0//EN
CALSCALE:GREGORIAN
METHOD:PUBLISH
X-WR-CALNAME:CKDH
X-ORIGINAL-URL:https://ckdh.com
X-WR-CALDESC:Events for CKDH
BEGIN:VEVENT
DTSTART;TZID=UTC+0:20171007T100000
DTEND;TZID=UTC+0:20171008T160000
DTSTAMP:20260423T131747
CREATED:20170919T165651Z
LAST-MODIFIED:20171005T105123Z
UID:1515-1507370400-1507478400@ckdh.com
SUMMARY:The Annual Fall Festival of Colors
DESCRIPTION:The Annual Fall Festival of Colors is Thanksgiving Weekend\, Saturday and Sunday at Ski Wentworth. Ride the chairlift for a beautiful view of Wentworth Valley. Hike back down the mountain. Chair runs 10-4. Other activities include a jumpy castle\, petting zoo\, Haystack Playground\, pony rides\, BBQ & more! \n
URL:https://ckdh.com/event/the-annual-fall-festival-of-colors/
END:VEVENT
END:VCALENDAR