BEGIN:VCALENDAR
VERSION:2.0
PRODID:-//CKDH - ECPv4.6.26//NONSGML v1.0//EN
CALSCALE:GREGORIAN
METHOD:PUBLISH
X-WR-CALNAME:CKDH
X-ORIGINAL-URL:https://ckdh.com
X-WR-CALDESC:Events for CKDH
BEGIN:VEVENT
DTSTART;TZID=UTC+0:20170311T090000
DTEND;TZID=UTC+0:20170311T160000
DTSTAMP:20260421T113705
CREATED:20170301T190651Z
LAST-MODIFIED:20170301T190651Z
UID:284-1489222800-1489248000@ckdh.com
SUMMARY:The Atlantic Farm Mechanization Show
DESCRIPTION:The Atlantic Farm Mechanization Show is March 9-11 at the Moncton Coliseum. Thursday and Friday 9-5 and Saturday 9-4. This years theme is Spotlight on Farm Technology. With over 160 exhibitors\, there is something for everyone\, whether you’re representing a multi-national operation\, running a large tract farm\, or managing a small family farm\, organic farm\, hobby farm\, a small urban plot or a community garden. Accompanying displays of time- and money-saving technology\, The Atlantic Farm Mechanization Show will have exhibits of the latest in equipment from commercial harvesters to lawn mowers and garden tools\, as well as booths for service companies\, support organizations\, farm banking institutions\, and information resources. \n
URL:https://ckdh.com/event/the-atlantic-farm-mechanization-show-2/
END:VEVENT
END:VCALENDAR