BEGIN:VCALENDAR
VERSION:2.0
PRODID:-//CKDH - ECPv4.6.26//NONSGML v1.0//EN
CALSCALE:GREGORIAN
METHOD:PUBLISH
X-WR-CALNAME:CKDH
X-ORIGINAL-URL:https://ckdh.com
X-WR-CALDESC:Events for CKDH
BEGIN:VEVENT
DTSTART;TZID=UTC+0:20171204T193000
DTEND;TZID=UTC+0:20171204T193000
DTSTAMP:20260421T133526
CREATED:20171108T182747Z
LAST-MODIFIED:20171108T182747Z
UID:1753-1512415800-1512415800@ckdh.com
SUMMARY:The Living Christmas Tree
DESCRIPTION:The Living Christmas Tree returns to the Amherst First Baptist Church\, Monday Dec 4 at 7:30. Admission is a free will offering\, with proceeds to the Christmas Cheer boxes. \n
URL:https://ckdh.com/event/the-living-christmas-tree/
END:VEVENT
END:VCALENDAR