BEGIN:VCALENDAR
VERSION:2.0
PRODID:-//CKDH - ECPv4.6.26//NONSGML v1.0//EN
CALSCALE:GREGORIAN
METHOD:PUBLISH
X-WR-CALNAME:CKDH
X-ORIGINAL-URL:https://ckdh.com
X-WR-CALDESC:Events for CKDH
BEGIN:VEVENT
DTSTART;TZID=America/Halifax:20200209T163000
DTEND;TZID=America/Halifax:20200209T180000
DTSTAMP:20260422T122421
CREATED:20200102T162818Z
LAST-MODIFIED:20200102T162818Z
UID:7285-1581265800-1581271200@ckdh.com
SUMMARY:Town vs Gown Charity Hockey Game
DESCRIPTION:The Town vs Gown Charity Hockey Game is Sunday Feb 9 at the Tantramar Veterans Memorial Civic Center 4:30-6. Town staff\, emergency personnel and business representatives will take on the best Mount Allison students and staff have to offer. There will be great prizes\, a 50/50\, kids activities\, fan contests and more. Admission is a donation to the Sackville Food Bank. \n
URL:https://ckdh.com/event/town-vs-gown-charity-hockey-game-2/
END:VEVENT
END:VCALENDAR