BEGIN:VCALENDAR
VERSION:2.0
PRODID:-//CKDH - ECPv4.6.26//NONSGML v1.0//EN
CALSCALE:GREGORIAN
METHOD:PUBLISH
X-WR-CALNAME:CKDH
X-ORIGINAL-URL:https://ckdh.com
X-WR-CALDESC:Events for CKDH
BEGIN:VEVENT
DTSTART;TZID=America/Halifax:20191026T100000
DTEND;TZID=America/Halifax:20191026T160000
DTSTAMP:20260423T110219
CREATED:20191015T145114Z
LAST-MODIFIED:20191015T145114Z
UID:6824-1572084000-1572105600@ckdh.com
SUMMARY:Train Show
DESCRIPTION:The Cumberland and Area Train Club\, is hosting a Train Show\, Saturday Oct 26 from 10-4 at the Amherst First Baptist Church. There will be lots of exhibits. Cost is $2.50 per person. \n
URL:https://ckdh.com/event/train-show/
END:VEVENT
END:VCALENDAR