BEGIN:VCALENDAR
VERSION:2.0
PRODID:-//CKDH - ECPv4.6.26//NONSGML v1.0//EN
CALSCALE:GREGORIAN
METHOD:PUBLISH
X-WR-CALNAME:CKDH
X-ORIGINAL-URL:https://ckdh.com
X-WR-CALDESC:Events for CKDH
BEGIN:VEVENT
DTSTART;TZID=America/Halifax:20190107T183000
DTEND;TZID=America/Halifax:20190107T203000
DTSTAMP:20260422T175547
CREATED:20181231T143606Z
LAST-MODIFIED:20181231T143606Z
UID:5390-1546885800-1546893000@ckdh.com
SUMMARY:Update on Lorne Street Storm Water Mitigation Project.
DESCRIPTION:The Town of Sackville will be holding an update on Phase II of their Lorne Street Storm Water Mitigation Project. Town staff and the engineering consultant leading the project\, Crandall Engineering\, will be providing an overview of Phase II\, which will include final design plans and the anticipated construction schedule associated with a new naturalized stormwater retention pond and associated works in the Lorne Street\, St. James Street\, Charles Street and Crescent Street areas. \nThe session will be held on Monday\, January 7\, 6:30-8:30 pm in Council Chambers at Town Hall. \n
URL:https://ckdh.com/event/update-on-lorne-street-storm-water-mitigation-project/
END:VEVENT
END:VCALENDAR