BEGIN:VCALENDAR
VERSION:2.0
PRODID:-//CKDH - ECPv4.6.26//NONSGML v1.0//EN
CALSCALE:GREGORIAN
METHOD:PUBLISH
X-WR-CALNAME:CKDH
X-ORIGINAL-URL:https://ckdh.com
X-WR-CALDESC:Events for CKDH
BEGIN:VEVENT
DTSTART;TZID=America/Halifax:20190216T160000
DTEND;TZID=America/Halifax:20190216T180000
DTSTAMP:20260421T105506
CREATED:20190204T162224Z
LAST-MODIFIED:20190204T162224Z
UID:5533-1550332800-1550340000@ckdh.com
SUMMARY:Valentine Casserole Supper
DESCRIPTION:St Ann’s Church Hall on the British Settlement Road in Westcock NB will be hosting a Valentine Casserole Supper\, Sat Feb 16 from 4-6. They will have a variety casseroles\, ham\, beans\, dessert and more. Cost is $12. \n
URL:https://ckdh.com/event/valentine-casserole-supper/
END:VEVENT
END:VCALENDAR