BEGIN:VCALENDAR
VERSION:2.0
PRODID:-//CKDH - ECPv4.6.26//NONSGML v1.0//EN
CALSCALE:GREGORIAN
METHOD:PUBLISH
X-WR-CALNAME:CKDH
X-ORIGINAL-URL:https://ckdh.com
X-WR-CALDESC:Events for CKDH
BEGIN:VEVENT
DTSTART;TZID=America/Halifax:20200208T200000
DTEND;TZID=America/Halifax:20200208T223000
DTSTAMP:20260423T110552
CREATED:20200122T182757Z
LAST-MODIFIED:20200122T182757Z
UID:7369-1581192000-1581201000@ckdh.com
SUMMARY:Valentine Dance
DESCRIPTION:The Amherst 50+ Club is holding a Valentines Dance\, Saturday Feb 8 from 8-10:30 at their hall on Croft Street. Music will be by Jerry Metz and Lost Highway. There will be a 50/50 draw\, with two winners and a Dinner for Two from Woo’s Kitchen as a door prize. There will be a light lunch following the dance. \n
URL:https://ckdh.com/event/valentine-dance-4/
END:VEVENT
END:VCALENDAR