BEGIN:VCALENDAR
VERSION:2.0
PRODID:-//CKDH - ECPv4.6.26//NONSGML v1.0//EN
CALSCALE:GREGORIAN
METHOD:PUBLISH
X-WR-CALNAME:CKDH
X-ORIGINAL-URL:https://ckdh.com
X-WR-CALDESC:Events for CKDH
BEGIN:VEVENT
DTSTART;VALUE=DATE:20201027
DTEND;VALUE=DATE:20201028
DTSTAMP:20260423T110301
CREATED:20201026T150645Z
LAST-MODIFIED:20201026T150645Z
UID:8075-1603756800-1603843199@ckdh.com
SUMMARY:Walking Track Open
DESCRIPTION:The Walking Track at the Amherst Stadium opens Tuesday. There are several changes in walking protocol. Initially it will be available for use Tuesday’s and Thursdays from 10-11 and 1:30-2:30. The number of walkers in each session will be limited to 10 people\, and you have to book a session by calling 902-667-3352 or email info@amherst.ca Walkers will enter and exit the Stadium through the south side doors\, will be opened 5 minutes before the start of each session. Masks are mandatory when walkers enter the stadium\, but not required while you are walking. Bring your own water bottles\, because the fountain will not be available. A washroom on the second floor will be available. \n
URL:https://ckdh.com/event/walking-track-open/
END:VEVENT
END:VCALENDAR