BEGIN:VCALENDAR
VERSION:2.0
PRODID:-//CKDH - ECPv4.6.26//NONSGML v1.0//EN
CALSCALE:GREGORIAN
METHOD:PUBLISH
X-WR-CALNAME:CKDH
X-ORIGINAL-URL:https://ckdh.com
X-WR-CALDESC:Events for CKDH
BEGIN:VEVENT
DTSTART;VALUE=DATE:20190724
DTEND;VALUE=DATE:20190725
DTSTAMP:20260421T133510
CREATED:20190723T153859Z
LAST-MODIFIED:20190723T153859Z
UID:6391-1563926400-1564012799@ckdh.com
SUMMARY:Wellness Funds Applications
DESCRIPTION:The Cumberland Community Health Boards are accepting Wellness Funds Applications. If you have a great idea for a project in the areas of affordable housing\, poverty\, food insecurity\, early childhood development and social isolation\, they would like to hear from you. Deadline for applications is Oct 15. Call 902-397-0376 or check the Cumberland Community Health Boards facebook page or website\, communityhealthboards.ns.ca/wellness-funds \n
URL:https://ckdh.com/event/wellness-funds-applications/
END:VEVENT
END:VCALENDAR