BEGIN:VCALENDAR
VERSION:2.0
PRODID:-//CKDH - ECPv4.6.26//NONSGML v1.0//EN
CALSCALE:GREGORIAN
METHOD:PUBLISH
X-WR-CALNAME:CKDH
X-ORIGINAL-URL:https://ckdh.com
X-WR-CALDESC:Events for CKDH
BEGIN:VEVENT
DTSTART;TZID=America/Halifax:20190818T190000
DTEND;TZID=America/Halifax:20190818T190000
DTSTAMP:20260421T174456
CREATED:20190723T153753Z
LAST-MODIFIED:20190723T153753Z
UID:6389-1566154800-1566154800@ckdh.com
SUMMARY:West Amherst Point Baptist Church -Musical Evening
DESCRIPTION:The West Amherst Point Baptist Church invites you to a Musical Evening with the Fellas\, Sunday August 18 at 7. There’s a light lunch afterward. \n  \n
URL:https://ckdh.com/event/west-amherst-point-baptist-church-musical-evening/
END:VEVENT
END:VCALENDAR