BEGIN:VCALENDAR
VERSION:2.0
PRODID:-//CKDH - ECPv4.6.26//NONSGML v1.0//EN
CALSCALE:GREGORIAN
METHOD:PUBLISH
X-WR-CALNAME:CKDH
X-ORIGINAL-URL:https://ckdh.com
X-WR-CALDESC:Events for CKDH
BEGIN:VEVENT
DTSTART;VALUE=DATE:20190824
DTEND;VALUE=DATE:20190825
DTSTAMP:20260422T103530
CREATED:20190808T075906Z
LAST-MODIFIED:20190808T075906Z
UID:6477-1566604800-1566691199@ckdh.com
SUMMARY:Wild Blueberry Extravaganza
DESCRIPTION:The Wild Blueberry harvest Festival is Aug 14-31 in Cumberland County. \nHead to the Westchester Fire Hall Saturday Aug 24th for the Wild Blueberry Extravaganza\, a wild blueberry social. \n
URL:https://ckdh.com/event/wild-blueberry-extravaganza/
END:VEVENT
END:VCALENDAR